BEGIN:VCALENDAR
VERSION:2.0
PRODID:-//Rising of Chaos - ECPv6.2.1//NONSGML v1.0//EN
CALSCALE:GREGORIAN
METHOD:PUBLISH
X-ORIGINAL-URL:https://risingofchaos.com
X-WR-CALDESC:Events for Rising of Chaos
REFRESH-INTERVAL;VALUE=DURATION:PT1H
X-Robots-Tag:noindex
X-PUBLISHED-TTL:PT1H
BEGIN:VTIMEZONE
TZID:UTC
BEGIN:STANDARD
TZOFFSETFROM:+0000
TZOFFSETTO:+0000
TZNAME:UTC
DTSTART:20200101T000000
END:STANDARD
END:VTIMEZONE
BEGIN:VEVENT
DTSTART;TZID=UTC:20200321T090000
DTEND;TZID=UTC:20200321T180000
DTSTAMP:20260421T095139
CREATED:20200304T144846Z
LAST-MODIFIED:20200304T144846Z
UID:334-1584781200-1584813600@risingofchaos.com
SUMMARY:The Case of the Cheesemonger’s Daughter
DESCRIPTION:It was a most curious situation. One of the smallfolk missing on the streets of Haven is not\, I am sad to say\, that uncommon an occurrence. Scarcely noteworthy\, and hardly the sort of thing that we would often trouble Guildsfolk with. \nWhen we found the girl’s paramour – a bootblack by the name of Richard Haines – was also missing\, we thought the case had solved itself. Then Constable Codgins found the note hidden in the boy’s beer. \n“Aol Ohssz vm Qbzapjl zohss ulea ahrl klspclyf vm aolpy yhapvuz vu aol 9ao myvt Ohyvsk Yhftbz vu Iypknl Zaylla.\nAolyl dpss il aoyll jyhalz.\nAol aopyk dpss il jollzl.” \nMost curious indeed. And far beyond my pay grade.
URL:https://risingofchaos.com/event/the-case-of-the-cheesemongers-daughter/
LOCATION:Hut Wood\, Hut Wood\, Southampton
END:VEVENT
END:VCALENDAR